BEGIN:VCALENDAR
VERSION:2.0
PRODID:-//Islamabad School of Law - ECPv5.15.0.1//NONSGML v1.0//EN
CALSCALE:GREGORIAN
METHOD:PUBLISH
X-WR-CALNAME:Islamabad School of Law
X-ORIGINAL-URL:https://isl.org.pk
X-WR-CALDESC:Events for Islamabad School of Law
REFRESH-INTERVAL;VALUE=DURATION:PT1H
X-Robots-Tag:noindex
X-PUBLISHED-TTL:PT1H
BEGIN:VTIMEZONE
TZID:Asia/Karachi
BEGIN:STANDARD
TZOFFSETFROM:+0500
TZOFFSETTO:+0500
TZNAME:PKT
DTSTART:20200101T000000
END:STANDARD
TZID:Asia/Karachi
BEGIN:STANDARD
TZOFFSETFROM:+0500
TZOFFSETTO:+0500
TZNAME:PKT
DTSTART:20200101T000000
END:STANDARD
END:VTIMEZONE
BEGIN:VEVENT
DTSTART;TZID=Asia/Karachi:20200715T180000
DTEND;TZID=Asia/Karachi:20200715T190000
DTSTAMP:20260424T122230
CREATED:20200622T100647Z
LAST-MODIFIED:20200622T100647Z
UID:2598-1594836000-1594839600@isl.org.pk
SUMMARY:Virtual Open Day
DESCRIPTION:Study in Pakistan and graduate from the UK.
URL:https://isl.org.pk/event/virtual-open-day-jul2020/
CATEGORIES:Student Event
ATTACH;FMTTYPE=image/jpeg:https://isl.org.pk/wp-content/uploads/2020/06/open-event.jpeg
ORGANIZER;CN="Islamabad%20School%20of%20Law":MAILTO:info@isl.org.pk
END:VEVENT
BEGIN:VEVENT
DTSTART;TZID=Asia/Karachi:20200824T180000
DTEND;TZID=Asia/Karachi:20200824T220000
DTSTAMP:20260424T122230
CREATED:20200620T053256Z
LAST-MODIFIED:20200623T053537Z
UID:2337-1598292000-1598306400@isl.org.pk
SUMMARY:25th Annual Reunion
DESCRIPTION:Islamabad School of Law is celebrating 25 years of imparting education with an alumni reunion this August. RSVP to signal your attendance.
URL:https://isl.org.pk/event/25th-annual-reunion/
CATEGORIES:Alumni Event,Anniversary
ATTACH;FMTTYPE=image/png:https://isl.org.pk/wp-content/uploads/2020/05/Reunion-Event.png
ORGANIZER;CN="Islamabad%20School%20of%20Law":MAILTO:info@isl.org.pk
END:VEVENT
END:VCALENDAR